BEGIN:VCALENDAR
VERSION:2.0
PRODID:SchoolNow
CALSCALE:GREGORIAN
BEGIN:VEVENT
UID:46b0d172-b2f0-11e8-8248-0a76ddb44678
DTSTAMP:20180907T224928Z
SUMMARY:4th & 5th Gr FT
LOCATION:Concordia University
URL;VALUE=URI:https://www.op97.org/beye/calendar/1860043/4th-5th-gr-ft
DTSTART:20181115T180000Z
DTEND:20181115T200000Z
END:VEVENT
END:VCALENDAR
