BEGIN:VCALENDAR
VERSION:2.0
PRODID:SchoolNow
CALSCALE:GREGORIAN
BEGIN:VEVENT
UID:4e75abb2-b69c-11e8-8036-12549397fe1c
DTSTAMP:20180912T145828Z
SUMMARY:Gr 3-5 Talent Show Auditions & Parent Mtg
LOCATION:Beye School Auditorium
URL;VALUE=URI:https://www.op97.org/beye/calendar/1865327/gr-3-5-talent-show
 -auditions-parent-mtg
DTSTART:20181211T210000Z
DTEND:20181211T223000Z
END:VEVENT
END:VCALENDAR
