BEGIN:VCALENDAR
VERSION:2.0
PRODID:SchoolNow
CALSCALE:GREGORIAN
BEGIN:VEVENT
UID:7b4d7a70-b69c-11e8-af45-0a4a854f1fee
DTSTAMP:20180912T145943Z
SUMMARY:Gr K-2 Talent Show Auditions & Parent Mtg
LOCATION:Beye School Auditorium
URL;VALUE=URI:https://www.op97.org/beye/calendar/1865328/gr-k-2-talent-show
 -auditions-parent-mtg
DTSTART:20181212T203000Z
DTEND:20181212T220000Z
END:VEVENT
END:VCALENDAR
