BEGIN:VCALENDAR
VERSION:2.0
PRODID:SchoolNow
CALSCALE:GREGORIAN
BEGIN:VEVENT
UID:165788e4-b69d-11e8-91b1-0a95b7fcb866
DTSTAMP:20180912T150403Z
SUMMARY:Beye School Talent Show
LOCATION:Beye School Auditorium
URL;VALUE=URI:https://www.op97.org/beye/calendar/1865329/beye-school-talent
 -show
DTSTART:20190208T003000Z
DTEND:20190208T023000Z
END:VEVENT
END:VCALENDAR
