BEGIN:VCALENDAR
VERSION:2.0
PRODID:SchoolNow
CALSCALE:GREGORIAN
BEGIN:VEVENT
UID:38740952-b69d-11e8-b29a-126812308956
DTSTAMP:20180912T150500Z
SUMMARY:Beye School Talent Show
LOCATION:Beye School Auditorium
URL;VALUE=URI:https://www.op97.org/beye/calendar/1865330/beye-school-talent
 -show
DTSTART:20190209T003000Z
DTEND:20190209T023000Z
END:VEVENT
END:VCALENDAR
