BEGIN:VCALENDAR
VERSION:2.0
PRODID:SchoolNow
CALSCALE:GREGORIAN
BEGIN:VEVENT
UID:e21be068-b6bd-11e8-9bfa-122edf0b5af0
DTSTAMP:20180912T185849Z
SUMMARY:3rd Grade Poetry Breakfast
LOCATION:Beye School Commons
URL;VALUE=URI:https://www.op97.org/beye/calendar/1865792/3rd-grade-poetry-b
 reakfast
DTSTART:20181012T130000Z
DTEND:20181012T143000Z
END:VEVENT
END:VCALENDAR
