BEGIN:VCALENDAR
VERSION:2.0
PRODID:SchoolNow
CALSCALE:GREGORIAN
BEGIN:VEVENT
UID:d9281096-b6de-11e8-8db9-12300db7bf32
DTSTAMP:20180924T142504Z
SUMMARY:5th Gr Field Trip
LOCATION:Harris Theater\, 205 E Randolph St\, Chicago\, IL 60601\, USA
URL;VALUE=URI:https://www.op97.org/beye/calendar/1866162/5th-gr-field-trip
DTSTART:20180928T140000Z
DTEND:20180928T170000Z
END:VEVENT
END:VCALENDAR
