BEGIN:VCALENDAR
VERSION:2.0
PRODID:SchoolNow
CALSCALE:GREGORIAN
BEGIN:VEVENT
UID:7e9fb684-b75f-11e8-9a95-12cca0c339f0
DTSTAMP:20180913T141540Z
SUMMARY:Pancake Breakfast
LOCATION:Beye School Commons
URL;VALUE=URI:https://www.op97.org/beye/calendar/1866356/pancake-breakfast
DTSTART:20190126T140000Z
DTEND:20190126T170000Z
END:VEVENT
END:VCALENDAR
