BEGIN:VCALENDAR
VERSION:2.0
PRODID:SchoolNow
CALSCALE:GREGORIAN
BEGIN:VEVENT
UID:63f1e6a6-ba91-11e8-8da2-0a094604c994
DTSTAMP:20180924T142529Z
SUMMARY:4th Gr Field Trip
LOCATION:Harris Theater\, 205 E Randolph St\, Chicago\, IL 60601\, USA
URL;VALUE=URI:https://www.op97.org/beye/calendar/1869017/5th-gr-field-trip-
 clone
DTSTART:20180928T140000Z
DTEND:20180928T170000Z
END:VEVENT
END:VCALENDAR
