BEGIN:VCALENDAR
VERSION:2.0
PRODID:SchoolNow
CALSCALE:GREGORIAN
BEGIN:VEVENT
UID:3a53404e-bab7-11e8-99e2-128016e34e1e
DTSTAMP:20180917T202115Z
SUMMARY:CLAIM Your Voice: A Slice of Reality
LOCATION:Julian Middle School\, 416 Ridgeland Ave.
URL;VALUE=URI:https://www.op97.org/beye/calendar/1869706/claim-your-voice-a
 -slice-of-reality
DTSTART:20180921T000000Z
DTEND:20180921T020000Z
END:VEVENT
END:VCALENDAR
