BEGIN:VCALENDAR
VERSION:2.0
PRODID:SchoolNow
CALSCALE:GREGORIAN
BEGIN:VEVENT
UID:38dbf5ca-bac7-11e8-993e-128016e34e1e
DTSTAMP:20190408T204246Z
SUMMARY:End of Year All School Picnic
URL;VALUE=URI:https://www.op97.org/beye/calendar/1869770/end-of-year-picnic
DTSTART:20190605T220000Z
DTEND:20190606T010000Z
END:VEVENT
END:VCALENDAR
