BEGIN:VCALENDAR
VERSION:2.0
PRODID:SchoolNow
CALSCALE:GREGORIAN
BEGIN:VEVENT
UID:30d04c18-bc12-11e8-b78c-0a90d77241de
DTSTAMP:20180919T134454Z
SUMMARY:4th Gr FT - FLW Home & STudio
LOCATION:FLW Home & Studio
URL;VALUE=URI:https://www.op97.org/beye/calendar/1871407/4th-gr-ft-flw-home
 -studio
DTSTART:20190416T131500Z
DTEND:20190416T150000Z
END:VEVENT
END:VCALENDAR
