BEGIN:VCALENDAR
VERSION:2.0
PRODID:SchoolNow
CALSCALE:GREGORIAN
BEGIN:VEVENT
UID:ef0217ca-bd25-11e8-8dfd-12fe67648836
DTSTAMP:20180920T223845Z
SUMMARY:4th Gr Field Trip
LOCATION:The Field Museum
URL;VALUE=URI:https://www.op97.org/beye/calendar/1873636/4th-gr-field-trip
DTSTART:20181003T140000Z
DTEND:20181003T183000Z
END:VEVENT
END:VCALENDAR
