BEGIN:VCALENDAR
VERSION:2.0
PRODID:SchoolNow
CALSCALE:GREGORIAN
BEGIN:VEVENT
UID:af697ac6-c046-11e8-a3a4-1289266040fc
DTSTAMP:20180924T221045Z
SUMMARY:1st Grade FT - Stahl Family Theatre
LOCATION:Stahl Family Theatre\, 5900 W. Belmont Ave\, Chicago\, IL  60634
URL;VALUE=URI:https://www.op97.org/beye/calendar/1875379/1st-grade-ft-stahl
 -family-theatre
DTSTART:20181114T154500Z
DTEND:20181114T181500Z
END:VEVENT
END:VCALENDAR
