BEGIN:VCALENDAR
VERSION:2.0
PRODID:SchoolNow
CALSCALE:GREGORIAN
BEGIN:VEVENT
UID:b8b41498-c194-11e8-ac62-121a52de442e
DTSTAMP:20180926T140153Z
SUMMARY:Halloween Extravaganza
URL;VALUE=URI:https://www.op97.org/beye/calendar/1877544/halloween-extravag
 anza
DTSTART:20181028T190000Z
DTEND:20181028T210000Z
END:VEVENT
END:VCALENDAR
