BEGIN:VCALENDAR
VERSION:2.0
PRODID:SchoolNow
CALSCALE:GREGORIAN
BEGIN:VEVENT
UID:3e747c84-c196-11e8-ae4c-12a8f24b6892
DTSTAMP:20180926T141247Z
SUMMARY:C'mon Beye Party Slime Competition
URL;VALUE=URI:https://www.op97.org/beye/calendar/1877545/cmon-beye-party-sl
 ime-competition
DTSTART:20181103T193000Z
DTEND:20181103T213000Z
END:VEVENT
END:VCALENDAR
