BEGIN:VCALENDAR
VERSION:2.0
PRODID:SchoolNow
CALSCALE:GREGORIAN
BEGIN:VEVENT
UID:696acb22-c197-11e8-adf2-121a52de442e
DTSTAMP:20180926T142108Z
SUMMARY:Beye's Sleepover At School
URL;VALUE=URI:https://www.op97.org/beye/calendar/1877548/beyes-sleepover-at
 -school
DTSTART:20190127T010000Z
DTEND:20190127T140000Z
END:VEVENT
END:VCALENDAR
