BEGIN:VCALENDAR
VERSION:2.0
PRODID:SchoolNow
CALSCALE:GREGORIAN
BEGIN:VEVENT
UID:324648b8-c199-11e8-968f-0a50e6a7ae6c
DTSTAMP:20190131T150551Z
SUMMARY:C'Mon Beye Hamilton Sing-a-Long
URL;VALUE=URI:https://www.op97.org/beye/calendar/1877549/cmon-beye-hamilton
 -sing-a-long
DTSTART:20190223T000000Z
DTEND:20190223T020000Z
END:VEVENT
END:VCALENDAR
