BEGIN:VCALENDAR
VERSION:2.0
PRODID:SchoolNow
CALSCALE:GREGORIAN
BEGIN:VEVENT
UID:8041ca24-c199-11e8-8094-0a50e6a7ae6c
DTSTAMP:20180926T143606Z
SUMMARY:C'mon Beye Maker Night
URL;VALUE=URI:https://www.op97.org/beye/calendar/1877551/cmon-beye-maker-ni
 ght
DTSTART:20190302T230000Z
DTEND:20190303T020000Z
END:VEVENT
END:VCALENDAR
