BEGIN:VCALENDAR
VERSION:2.0
PRODID:SchoolNow
CALSCALE:GREGORIAN
BEGIN:VEVENT
UID:ba2bcabc-c1a5-11e8-9075-0a3935bae650
DTSTAMP:20180926T160337Z
SUMMARY:C'mon Beye Bollywood Dance Party
URL;VALUE=URI:https://www.op97.org/beye/calendar/1877589/cmon-beye-bollywoo
 d-dance-party
DTSTART:20190413T210000Z
DTEND:20190413T230000Z
END:VEVENT
END:VCALENDAR
