BEGIN:VCALENDAR
VERSION:2.0
PRODID:SchoolNow
CALSCALE:GREGORIAN
BEGIN:VEVENT
UID:ef272e5e-c1dd-11e8-8b28-0abaf1c047a4
DTSTAMP:20180926T224557Z
SUMMARY:C'mon Beye School Dance
URL;VALUE=URI:https://www.op97.org/beye/calendar/1878200/cmon-beye-school-d
 ance
DTSTART:20190511T220000Z
DTEND:20190512T010000Z
END:VEVENT
END:VCALENDAR
