BEGIN:VCALENDAR
VERSION:2.0
PRODID:SchoolNow
CALSCALE:GREGORIAN
BEGIN:VEVENT
UID:9069a4c8-c5bb-11e8-b2d2-126350370ef2
DTSTAMP:20181001T205000Z
SUMMARY:Title 1 Breakfast
URL;VALUE=URI:https://www.op97.org/beye/calendar/1881078/title-1-breakfast
DTSTART:20181030T121500Z
DTEND:20181030T130000Z
END:VEVENT
END:VCALENDAR
