BEGIN:VCALENDAR
VERSION:2.0
PRODID:SchoolNow
CALSCALE:GREGORIAN
BEGIN:VEVENT
UID:317782b4-c75a-11e8-9cbc-0a41eb883d6e
DTSTAMP:20181003T221802Z
SUMMARY:3rd Gr Field Trip
LOCATION:DePaul's Merle Reskin Theater
URL;VALUE=URI:https://www.op97.org/beye/calendar/1883353/3rd-gr-field-trip
DTSTART:20181102T140000Z
DTEND:20181102T164500Z
END:VEVENT
END:VCALENDAR
