BEGIN:VCALENDAR
VERSION:2.0
PRODID:SchoolNow
CALSCALE:GREGORIAN
BEGIN:VEVENT
UID:183e22e0-c8e9-11e8-8c14-0a77d203947a
DTSTAMP:20181005T215329Z
SUMMARY:Halloween Parade
URL;VALUE=URI:https://www.op97.org/beye/calendar/1885102/halloween-parade
DTSTART:20181031T173000Z
DTEND:20181031T183000Z
END:VEVENT
END:VCALENDAR
