BEGIN:VCALENDAR
VERSION:2.0
PRODID:SchoolNow
CALSCALE:GREGORIAN
BEGIN:VEVENT
UID:beeaf888-cbd8-11e8-b9e6-0a0cc5dcb042
DTSTAMP:20181009T153401Z
SUMMARY:K-Field Trip
LOCATION:Goebbert's Farm 40 W. HIggins Road\, South Barrington\, IL
URL;VALUE=URI:https://www.op97.org/beye/calendar/1886034/k-field-trip
DTSTART:20181029T143000Z
DTEND:20181029T183000Z
END:VEVENT
END:VCALENDAR
