BEGIN:VCALENDAR
VERSION:2.0
PRODID:SchoolNow
CALSCALE:GREGORIAN
BEGIN:VEVENT
UID:1e62e704-e136-11e8-8f36-1232dfa1ea56
DTSTAMP:20181105T200518Z
SUMMARY:Drama Club Performance
LOCATION:Beye School Auditorium
URL;VALUE=URI:https://www.op97.org/beye/calendar/1901377/drama-club-perform
 ance
DTSTART:20190315T000000Z
DTEND:20190315T010000Z
END:VEVENT
END:VCALENDAR
