BEGIN:VCALENDAR
VERSION:2.0
PRODID:SchoolNow
CALSCALE:GREGORIAN
BEGIN:VEVENT
UID:3a37efd8-e136-11e8-b233-12f953359a0a
DTSTAMP:20181105T200605Z
SUMMARY:Drama Club Performance
LOCATION:Beye School Auditorium
URL;VALUE=URI:https://www.op97.org/beye/calendar/1901378/drama-club-perform
 ance-clone
DTSTART:20190316T000000Z
DTEND:20190316T010000Z
END:VEVENT
END:VCALENDAR
