BEGIN:VCALENDAR
VERSION:2.0
PRODID:SchoolNow
CALSCALE:GREGORIAN
BEGIN:VEVENT
UID:fe4b863a-e38b-11e8-91bb-0a99a4c59506
DTSTAMP:20181108T192504Z
SUMMARY:1st Gr Field Trip
LOCATION:Shedd Aquarium\, 1200 S Lake Shore Drive\, Chicago\, IL  60605
URL;VALUE=URI:https://www.op97.org/beye/calendar/1904100/1st-gr-field-trip
DTSTART:20190514T140000Z
DTEND:20190514T190000Z
END:VEVENT
END:VCALENDAR
