BEGIN:VCALENDAR
VERSION:2.0
PRODID:SchoolNow
CALSCALE:GREGORIAN
BEGIN:VEVENT
UID:b842f8c4-e680-11e8-abc8-122af599d4aa
DTSTAMP:20181112T134155Z
SUMMARY:District 97 Chess Tournament
LOCATION:Beye School
URL;VALUE=URI:https://www.op97.org/beye/calendar/1905024/district-97-chess-
 tournament
DTSTART:20190413T140000Z
DTEND:20190413T180000Z
END:VEVENT
END:VCALENDAR
