BEGIN:VCALENDAR
VERSION:2.0
PRODID:SchoolNow
CALSCALE:GREGORIAN
BEGIN:VEVENT
UID:af1d160a-e82c-11e8-afce-12c424c99024
DTSTAMP:20190408T204415Z
SUMMARY:5th Grade Event
LOCATION:Beye School Auditorium
URL;VALUE=URI:https://www.op97.org/beye/calendar/1906321/5th-grade-event
DTSTART:20190604T230000Z
DTEND:20190605T010000Z
END:VEVENT
END:VCALENDAR
