BEGIN:VCALENDAR
VERSION:2.0
PRODID:SchoolNow
CALSCALE:GREGORIAN
BEGIN:VEVENT
UID:76a7f240-ec0f-11e8-a012-1287879a7ac4
DTSTAMP:20181119T152619Z
SUMMARY:“C.L.A.I.M. Your Voice” 6th Annual Legislator Discussion
LOCATION:Julian Middle School - 416 S. Ridgeland
URL;VALUE=URI:https://www.op97.org/beye/calendar/1906625/c-l-a-i-m-your-voi
 ce-6th-annual-legislator-discussion
DTSTART:20181206T013000Z
DTEND:20181206T030000Z
END:VEVENT
END:VCALENDAR
