BEGIN:VCALENDAR
VERSION:2.0
PRODID:SchoolNow
CALSCALE:GREGORIAN
BEGIN:VEVENT
UID:67de50a8-f257-11e8-b34b-0a0c704b3bca
DTSTAMP:20181127T151625Z
SUMMARY:2nd Gr Field Trip
LOCATION:Chicago Botanic Garden\, 1000 Lake Cook Rd\, Glencoe\, IL  60022
URL;VALUE=URI:https://www.op97.org/beye/calendar/1909682/2nd-gr-field-trip
DTSTART:20190430T140000Z
DTEND:20190430T190000Z
END:VEVENT
END:VCALENDAR
