BEGIN:VCALENDAR
VERSION:2.0
PRODID:SchoolNow
CALSCALE:GREGORIAN
BEGIN:VEVENT
UID:8b6ed524-f42d-11e8-af50-128f4f67a974
DTSTAMP:20181129T232148Z
SUMMARY:2nd Gr Field Trip
LOCATION:Field Museum\, 1400 S Lake Shore Drive\, Chicago\, IL  60605
URL;VALUE=URI:https://www.op97.org/beye/calendar/1910850/2nd-gr-field-trip
DTSTART:20190129T150000Z
DTEND:20190129T203000Z
END:VEVENT
END:VCALENDAR
