BEGIN:VCALENDAR
VERSION:2.0
PRODID:SchoolNow
CALSCALE:GREGORIAN
BEGIN:VEVENT
UID:acf1363c-f992-11e8-88b4-0a12ea477dc0
DTSTAMP:20181206T200819Z
SUMMARY:Kindergarten Potluck Breakfast
LOCATION:Beye School Commons
URL;VALUE=URI:https://www.op97.org/beye/calendar/1916226/kindergarten-potlu
 ck-breakfast
DTSTART:20190118T143000Z
DTEND:20190118T160000Z
END:VEVENT
END:VCALENDAR
