BEGIN:VCALENDAR
VERSION:2.0
PRODID:SchoolNow
CALSCALE:GREGORIAN
BEGIN:VEVENT
UID:d1e49478-fd81-11e8-b0d5-0a2b2a40aada
DTSTAMP:20181211T201744Z
SUMMARY:5th Gr Field Trip
LOCATION:Illinois Holocaust Museum
URL;VALUE=URI:https://www.op97.org/beye/calendar/1917951/5th-gr-field-trip
DTSTART:20190108T150000Z
DTEND:20190108T193000Z
END:VEVENT
END:VCALENDAR
