BEGIN:VCALENDAR
VERSION:2.0
PRODID:SchoolNow
CALSCALE:GREGORIAN
BEGIN:VEVENT
UID:0618a7fe-ffbf-11e8-a561-0a92457ca4c2
DTSTAMP:20181214T164054Z
SUMMARY:Dental Clinic @ Beye School
URL;VALUE=URI:https://www.op97.org/beye/calendar/1919430/dental-clinic-beye
 -school
DTSTART:20190220T140000Z
DTEND:20190220T203000Z
END:VEVENT
END:VCALENDAR
