BEGIN:VCALENDAR
VERSION:2.0
PRODID:SchoolNow
CALSCALE:GREGORIAN
BEGIN:VEVENT
UID:1beebf46-ffbf-11e8-9c64-0acadb7c9f68
DTSTAMP:20181214T164130Z
SUMMARY:Dental Clinic @ Beye School
URL;VALUE=URI:https://www.op97.org/beye/calendar/1919432/dental-clinic-beye
 -school-clone
DTSTART:20190221T140000Z
DTEND:20190221T210000Z
END:VEVENT
END:VCALENDAR
