BEGIN:VCALENDAR
VERSION:2.0
PRODID:SchoolNow
CALSCALE:GREGORIAN
BEGIN:VEVENT
UID:81fc245e-0217-11e9-a70f-126e5caefe6c
DTSTAMP:20181217T161919Z
SUMMARY:Parent Empowerment Workshops
URL;VALUE=URI:https://www.op97.org/beye/calendar/1920114/parent-empowerment
 -workshops
DTSTART:20190112T153000Z
DTEND:20190112T203000Z
END:VEVENT
END:VCALENDAR
