BEGIN:VCALENDAR
VERSION:2.0
PRODID:SchoolNow
CALSCALE:GREGORIAN
BEGIN:VEVENT
UID:7ce15b3c-137f-11e9-99d0-0ac311f3da3a
DTSTAMP:20190108T195707Z
SUMMARY:1st Gr Field Trip
LOCATION:HIllside Bowl\, 4545 Harrison Street\, Hillside\, IL  60162
URL;VALUE=URI:https://www.op97.org/beye/calendar/1927614/1st-gr-ft
DTSTART:20190222T150000Z
DTEND:20190222T170000Z
END:VEVENT
END:VCALENDAR
