BEGIN:VCALENDAR
VERSION:2.0
PRODID:SchoolNow
CALSCALE:GREGORIAN
BEGIN:VEVENT
UID:1153ed6a-1462-11e9-99ad-121a863773b2
DTSTAMP:20190109T225824Z
SUMMARY:3rd Grade Picnic
LOCATION:Stevenson Park\, 49 Lake St\, Oak Park\, IL 60302\, USA
URL;VALUE=URI:https://www.op97.org/beye/calendar/1928953/3rd-grade-picnic
DTSTART:20190530T133000Z
DTEND:20190530T193000Z
END:VEVENT
END:VCALENDAR
