BEGIN:VCALENDAR
VERSION:2.0
PRODID:SchoolNow
CALSCALE:GREGORIAN
BEGIN:VEVENT
UID:e46e05f8-1464-11e9-8b15-0a4bdd73715a
DTSTAMP:20190109T231837Z
SUMMARY:2nd Grade Picnic
LOCATION:Andersen Park\, 824 Hayes Ave\, Oak Park\, IL 60302\, USA
URL;VALUE=URI:https://www.op97.org/beye/calendar/1928954/2nd-grade-picnic
DTSTART:20190604T130000Z
DTEND:20190604T190000Z
END:VEVENT
END:VCALENDAR
