BEGIN:VCALENDAR
VERSION:2.0
PRODID:SchoolNow
CALSCALE:GREGORIAN
BEGIN:VEVENT
UID:3f8de01a-1466-11e9-9c6a-0aeb0c53f1fc
DTSTAMP:20190109T232819Z
SUMMARY:5th Grade Picnic
LOCATION:Stevenson Park\, 49 Lake St\, Oak Park\, IL 60302\, USA
URL;VALUE=URI:https://www.op97.org/beye/calendar/1928955/5th-grade-picnic
DTSTART:20190604T140000Z
DTEND:20190604T193000Z
END:VEVENT
END:VCALENDAR
