BEGIN:VCALENDAR
VERSION:2.0
PRODID:SchoolNow
CALSCALE:GREGORIAN
BEGIN:VEVENT
UID:03cae0e0-1467-11e9-bd6a-0a2923166074
DTSTAMP:20190109T233348Z
SUMMARY:1st Grade Picnic
LOCATION:Stevenson Park 49 Lake St\, Oak Park\, IL 60302\, USA
URL;VALUE=URI:https://www.op97.org/beye/calendar/1928956/1st-grade-picnic
DTSTART:20190603T143000Z
DTEND:20190603T183000Z
END:VEVENT
END:VCALENDAR
