BEGIN:VCALENDAR
VERSION:2.0
PRODID:SchoolNow
CALSCALE:GREGORIAN
BEGIN:VEVENT
UID:97e91a12-14e4-11e9-bf58-0a889a795334
DTSTAMP:20190110T143337Z
SUMMARY:5th Gr FT
LOCATION:Gwendolyn Brooks Middle School\, 325 S Kenilworth Ave\, Oak Park\,
  IL 60302\, USA
URL;VALUE=URI:https://www.op97.org/beye/calendar/1929356/5th-gr-ft
DTSTART:20190201T150000Z
DTEND:20190201T163000Z
END:VEVENT
END:VCALENDAR
