BEGIN:VCALENDAR
VERSION:2.0
PRODID:SchoolNow
CALSCALE:GREGORIAN
BEGIN:VEVENT
UID:693fb504-15e8-11e9-93d4-0ac3b05627ce
DTSTAMP:20190111T213235Z
SUMMARY:Picture Day
URL;VALUE=URI:https://www.op97.org/beye/calendar/1930722/picture-day
DTSTART:20190926T130000Z
DTEND:20190926T200000Z
END:VEVENT
END:VCALENDAR
