BEGIN:VCALENDAR
VERSION:2.0
PRODID:SchoolNow
CALSCALE:GREGORIAN
BEGIN:VEVENT
UID:a0ca4886-15e8-11e9-a5ad-0a09c86ef7f8
DTSTAMP:20190111T213408Z
SUMMARY:Picture Retake Day
URL;VALUE=URI:https://www.op97.org/beye/calendar/1930723/picture-retake-day
DTSTART:20191107T140000Z
DTEND:20191107T170000Z
END:VEVENT
END:VCALENDAR
