BEGIN:VCALENDAR
VERSION:2.0
PRODID:SchoolNow
CALSCALE:GREGORIAN
BEGIN:VEVENT
UID:33c133da-1b74-11e9-81f8-12d69a1243b8
DTSTAMP:20190118T225550Z
SUMMARY:4th Grade Picnic
LOCATION:Stevenson Park\, 49 Lake St\, Oak Park\, IL 60302\, USA
URL;VALUE=URI:https://www.op97.org/beye/calendar/1933506/4th-grade-picnic
DTSTART:20190605T140000Z
DTEND:20190605T190000Z
END:VEVENT
END:VCALENDAR
