BEGIN:VCALENDAR
VERSION:2.0
PRODID:SchoolNow
CALSCALE:GREGORIAN
BEGIN:VEVENT
UID:4f8d8df6-234a-11e9-9194-128ba95fd96e
DTSTAMP:20190128T221608Z
SUMMARY:4th Grade FT
LOCATION:Trailside Museum\, 738 Thatcher Ave.\, River Forest\, IL  60305
URL;VALUE=URI:https://www.op97.org/beye/calendar/1936888/4th-grade-ft
DTSTART:20190425T140000Z
DTEND:20190425T173000Z
END:VEVENT
END:VCALENDAR
