BEGIN:VCALENDAR
VERSION:2.0
PRODID:SchoolNow
CALSCALE:GREGORIAN
BEGIN:VEVENT
UID:2277e2e8-234b-11e9-89c1-120c682f7638
DTSTAMP:20190128T222201Z
SUMMARY:3rd Gr FT
LOCATION:Art Institute of Chicago
URL;VALUE=URI:https://www.op97.org/beye/calendar/1936889/3rd-gr-ft
DTSTART:20190313T140000Z
DTEND:20190313T184500Z
END:VEVENT
END:VCALENDAR
