BEGIN:VCALENDAR
VERSION:2.0
PRODID:SchoolNow
CALSCALE:GREGORIAN
BEGIN:VEVENT
UID:b1756390-256b-11e9-9686-1234cfe0cb2a
DTSTAMP:20190131T152039Z
SUMMARY:Spring Book Fair
URL;VALUE=URI:https://www.op97.org/beye/calendar/1938583/spring-book-fair
DTSTART:20190202T150000Z
DTEND:20190202T190000Z
END:VEVENT
END:VCALENDAR
